BEGIN:VCALENDAR
VERSION:2.0
PRODID:DPCALENDAR
CALSCALE:GREGORIAN
X-WR-TIMEZONE:America/Argentina/Mendoza
BEGIN:VEVENT
DTSTART;VALUE=DATE:20250730
DTEND;VALUE=DATE:20250731
UID:928BDC73-0CFF-4855-8BBF-A63596F51E09
SUMMARY:Feriado: Inmaculada Concepción de María
CREATED:20250730T032829Z
DTSTAMP:20250730T032829Z
URL:https://www.uda.edu.ar/index.php/institucional-2025/calendario/feriado-inmaculada-concepcion-de-maria
LAST-MODIFIED:20250730T195643Z
SEQUENCE:59294
X-ACCESS:1
X-HITS:0
X-COLOR:ffffff
X-SHOW-END-TIME:1
END:VEVENT
BEGIN:VEVENT
DTSTART;TZID=America/Argentina/Mendoza:20250805T183000
DTEND;TZID=America/Argentina/Mendoza:20250805T193000
UID:76726937-2329-4F3D-BB87-A8AC013F6D58
SUMMARY:20° Aniversario de la RADU
CREATED:20250730T024641Z
DTSTAMP:20250730T024641Z
URL:https://www.uda.edu.ar/index.php/institucional-2025/calendario/20-aniversario-de-la-radu
DESCRIPTION:18:30 hs. | Salón Auditorio
X-ALT-DESC;FMTTYPE=text/html:<p>18:30 hs. | Salón Auditorio</p>
LAST-MODIFIED:20250730T024641Z
SEQUENCE:0
X-ACCESS:1
X-HITS:0
X-COLOR:004c93
X-SHOW-END-TIME:1
END:VEVENT
BEGIN:VEVENT
DTSTART;VALUE=DATE:20250815
DTEND;VALUE=DATE:20250817
UID:4DD0A225-198B-4306-BD9C-0C8FA5A69432
SUMMARY:Día no laborable
CREATED:20250730T025104Z
DTSTAMP:20250730T025104Z
URL:https://www.uda.edu.ar/index.php/institucional-2025/calendario/dia-no-laborable
LAST-MODIFIED:20250730T025104Z
SEQUENCE:0
X-ACCESS:1
X-HITS:0
X-COLOR:ff0000
X-SHOW-END-TIME:1
END:VEVENT
BEGIN:VEVENT
DTSTART;VALUE=DATE:20250817
DTEND;VALUE=DATE:20250818
UID:C35B188F-0082-4941-94B8-D2B635141C94
SUMMARY:Feriado: Paso a la Inmortalidad del Gral. José de San Martín
CREATED:20250730T025223Z
DTSTAMP:20250730T025223Z
URL:https://www.uda.edu.ar/index.php/institucional-2025/calendario/feriado-paso-a-la-inmortalidad-del-gral-jose-de-san-martin
LAST-MODIFIED:20250731T160930Z
SEQUENCE:134227
X-ACCESS:1
X-HITS:0
X-COLOR:ff0000
X-SHOW-END-TIME:0
END:VEVENT
BEGIN:VEVENT
DTSTART;VALUE=DATE:20250826
DTEND;VALUE=DATE:20250829
UID:CE8DEF10-53F3-49CF-AABC-7E3510B177A5
SUMMARY:23° Jornadas de Investigación (CIUDA)
CREATED:20250730T025409Z
DTSTAMP:20250730T025409Z
URL:https://www.uda.edu.ar/index.php/institucional-2025/calendario/23-jornadas-de-investigacion-ciuda
LAST-MODIFIED:20250730T025436Z
SEQUENCE:27
X-ACCESS:1
X-HITS:0
X-COLOR:004c93
X-SHOW-END-TIME:1
END:VEVENT
BEGIN:VEVENT
DTSTART;VALUE=DATE:20250917
DTEND;VALUE=DATE:20250918
UID:C42A4A55-3A31-41C2-888D-0C2B8CD5879B
SUMMARY:Asueto: Día del Profesor
CREATED:20250730T025531Z
DTSTAMP:20250730T025531Z
URL:https://www.uda.edu.ar/index.php/institucional-2025/calendario/asueto-dia-del-profesor
LAST-MODIFIED:20250730T025531Z
SEQUENCE:0
X-ACCESS:1
X-HITS:0
X-COLOR:ff0000
X-SHOW-END-TIME:1
END:VEVENT
BEGIN:VEVENT
DTSTART;VALUE=DATE:20250921
DTEND;VALUE=DATE:20250922
UID:3D4AE135-C42D-43AA-8FD9-A69F24529FFC
SUMMARY:Asueto: Día del Estudiante
CREATED:20250730T025559Z
DTSTAMP:20250730T025559Z
URL:https://www.uda.edu.ar/index.php/institucional-2025/calendario/asueto-dia-del-estudiante
LAST-MODIFIED:20250730T025559Z
SEQUENCE:0
X-ACCESS:1
X-HITS:0
X-COLOR:ff0000
X-SHOW-END-TIME:1
END:VEVENT
BEGIN:VEVENT
DTSTART;VALUE=DATE:20251010
DTEND;VALUE=DATE:20251011
UID:162CDDF5-9E1D-43E7-9572-B08268EE6AF2
SUMMARY:Día del Respeto a la Diversidad Cultural
CREATED:20250730T030206Z
DTSTAMP:20250730T030206Z
URL:https://www.uda.edu.ar/index.php/institucional-2025/calendario/dia-del-respeto-a-la-diversidad-cultural
DESCRIPTION:(Traslado día 12)
X-ALT-DESC;FMTTYPE=text/html:<p>(Traslado día 12)</p>
LAST-MODIFIED:20251007T221950Z
SEQUENCE:6031064
X-ACCESS:1
X-HITS:0
X-COLOR:ff0000
X-SHOW-END-TIME:1
END:VEVENT
BEGIN:VEVENT
DTSTART;VALUE=DATE:20251031
DTEND;VALUE=DATE:20251101
UID:83990A78-B1C8-4812-9624-D929E54BD5C1
SUMMARY:Aniversario de la Universidad
CREATED:20250730T023714Z
DTSTAMP:20250730T023714Z
URL:https://www.uda.edu.ar/index.php/institucional-2025/calendario/aniversario-de-la-universidad
LAST-MODIFIED:20250730T024052Z
SEQUENCE:218
X-ACCESS:1
X-HITS:0
X-COLOR:004c93
X-SHOW-END-TIME:1
END:VEVENT
BEGIN:VEVENT
DTSTART;TZID=America/Argentina/Mendoza:20251031T210000
DTEND;TZID=America/Argentina/Mendoza:20251031T223000
UID:1D01107C-2312-4AB7-BA57-B95A42ACE4D3
SUMMARY:Concierto 60º Aniversario 
CREATED:20250730T132645Z
DTSTAMP:20250730T132645Z
URL:https://www.uda.edu.ar/index.php/institucional-2025/calendario/concierto-60o-aniversario
DESCRIPTION:Coro de la Universidad del Aconcagua - Teatro Mendoza
X-ALT-DESC;FMTTYPE=text/html:<p>Coro de la Universidad del Aconcagua - Teatro Mendoza</p>
LAST-MODIFIED:20250730T132645Z
SEQUENCE:0
X-ACCESS:1
X-HITS:0
X-COLOR:004c93
X-SHOW-END-TIME:1
END:VEVENT
BEGIN:VEVENT
DTSTART;VALUE=DATE:20251110
DTEND;VALUE=DATE:20251111
UID:6A754E90-9354-4595-80CD-BC1B31539140
SUMMARY:Juramento Ciclo Lic. San Pedro Nolasco 
CREATED:20250730T030313Z
DTSTAMP:20250730T030313Z
URL:https://www.uda.edu.ar/index.php/institucional-2025/calendario/juramento-ciclo-lic-san-pedro-nolasco
DESCRIPTION:Salón Auditorio
X-ALT-DESC;FMTTYPE=text/html:<p>Salón Auditorio</p>
LAST-MODIFIED:20250730T030313Z
SEQUENCE:0
X-ACCESS:1
X-HITS:0
X-COLOR:004c93
X-SHOW-END-TIME:1
END:VEVENT
BEGIN:VEVENT
DTSTART;TZID=America/Argentina/Mendoza:20251111T180000
DTEND;TZID=America/Argentina/Mendoza:20251111T193000
UID:10A52938-E60F-4787-B824-04EAA4E5C878
SUMMARY:Juramento FCSA
CREATED:20250730T030357Z
DTSTAMP:20250730T030357Z
URL:https://www.uda.edu.ar/index.php/institucional-2025/calendario/juramento-fcsa
DESCRIPTION:Teatro Mendoza
X-ALT-DESC;FMTTYPE=text/html:<p>Teatro Mendoza</p>
LAST-MODIFIED:20250814T193935Z
SEQUENCE:1355738
X-ACCESS:1
X-HITS:0
X-COLOR:004c93
X-SHOW-END-TIME:1
END:VEVENT
BEGIN:VEVENT
DTSTART;TZID=America/Argentina/Mendoza:20251112T180000
DTEND;TZID=America/Argentina/Mendoza:20251112T193000
UID:2799B251-9CE1-4259-BBB2-34D2C809FEFC
SUMMARY:Juramento FPSI
CREATED:20250730T032155Z
DTSTAMP:20250730T032155Z
URL:https://www.uda.edu.ar/index.php/institucional-2025/calendario/juramento-fpsi-todas-las-carreras
DESCRIPTION:Teatro Mendoza
X-ALT-DESC;FMTTYPE=text/html:<p>Teatro Mendoza</p>
LAST-MODIFIED:20250730T040007Z
SEQUENCE:2292
X-ACCESS:1
X-HITS:0
X-COLOR:004c93
X-SHOW-END-TIME:1
END:VEVENT
BEGIN:VEVENT
DTSTART;TZID=America/Argentina/Mendoza:20251113T180000
DTEND;TZID=America/Argentina/Mendoza:20251113T193000
UID:E9DAA729-4893-4F8A-8CBA-88EF65F50001
SUMMARY:Juramento FCM
CREATED:20250730T032226Z
DTSTAMP:20250730T032226Z
URL:https://www.uda.edu.ar/index.php/institucional-2025/calendario/juramento-fcm
DESCRIPTION:Teatro Mendoza
X-ALT-DESC;FMTTYPE=text/html:<p>Teatro Mendoza</p>
LAST-MODIFIED:20250730T035941Z
SEQUENCE:2235
X-ACCESS:1
X-HITS:0
X-COLOR:004c93
X-SHOW-END-TIME:1
END:VEVENT
BEGIN:VEVENT
DTSTART;TZID=America/Argentina/Mendoza:20251114T180000
DTEND;TZID=America/Argentina/Mendoza:20251114T193000
UID:77128E6F-6BEB-41D0-92BC-590558EF68F5
SUMMARY:Juramento FCEJ
CREATED:20250730T032310Z
DTSTAMP:20250730T032310Z
URL:https://www.uda.edu.ar/index.php/institucional-2025/calendario/juramento-fcej
DESCRIPTION:Teatro Mendoza
X-ALT-DESC;FMTTYPE=text/html:<p>Teatro Mendoza</p>
LAST-MODIFIED:20250730T035910Z
SEQUENCE:2160
X-ACCESS:1
X-HITS:0
X-COLOR:004c93
X-SHOW-END-TIME:1
END:VEVENT
BEGIN:VEVENT
DTSTART;TZID=America/Argentina/Mendoza:20251118T180000
DTEND;TZID=America/Argentina/Mendoza:20251118T190000
UID:515B0591-A646-4957-B435-506972FFAA4B
SUMMARY:Juramento ESLE
CREATED:20250730T032344Z
DTSTAMP:20250730T032344Z
URL:https://www.uda.edu.ar/index.php/institucional-2025/calendario/juramento-esle
DESCRIPTION: Salón Auditorio
X-ALT-DESC;FMTTYPE=text/html:<p> Salón Auditorio</p>
LAST-MODIFIED:20250730T035837Z
SEQUENCE:2093
X-ACCESS:1
X-HITS:0
X-COLOR:004c93
X-SHOW-END-TIME:1
END:VEVENT
BEGIN:VEVENT
DTSTART;VALUE=DATE:20251121
DTEND;VALUE=DATE:20251122
UID:5A1AEA2E-4A28-49C9-85B5-67E28B16B9A5
SUMMARY:Día no laborable
CREATED:20250730T032412Z
DTSTAMP:20250730T032412Z
URL:https://www.uda.edu.ar/index.php/institucional-2025/calendario/dia-no-laborable-2
LAST-MODIFIED:20250730T032519Z
SEQUENCE:67
X-ACCESS:1
X-HITS:0
X-COLOR:ff0000
X-SHOW-END-TIME:1
END:VEVENT
BEGIN:VEVENT
DTSTART;VALUE=DATE:20251124
DTEND;VALUE=DATE:20251125
UID:454B998F-C07B-41CA-A04D-A61029D3E463
SUMMARY:Feriado: Día de la Soberanía Nacional (Traslado día 20)
CREATED:20250730T032436Z
DTSTAMP:20250730T032436Z
URL:https://www.uda.edu.ar/index.php/institucional-2025/calendario/feriado-dia-de-la-soberania-nacional
LAST-MODIFIED:20250730T032535Z
SEQUENCE:59
X-ACCESS:1
X-HITS:0
X-COLOR:ff0000
X-SHOW-END-TIME:1
END:VEVENT
BEGIN:VEVENT
DTSTART;TZID=America/Argentina/Mendoza:20251205T190000
DTEND;TZID=America/Argentina/Mendoza:20251205T200000
UID:EBAC139E-2E84-420A-8056-4E19B1E13E6A
SUMMARY:Misa 60º Aniversario
CREATED:20250730T032609Z
DTSTAMP:20250730T032609Z
URL:https://www.uda.edu.ar/index.php/institucional-2025/calendario/misa-60o-aniversario
DESCRIPTION:Salón auditorio
X-ALT-DESC;FMTTYPE=text/html:<p>Salón auditorio</p>
LAST-MODIFIED:20250730T035304Z
SEQUENCE:1615
X-ACCESS:1
X-HITS:0
X-COLOR:004c93
X-SHOW-END-TIME:1
END:VEVENT
BEGIN:VEVENT
DTSTART;TZID=America/Argentina/Mendoza:20251205T200000
DTEND;TZID=America/Argentina/Mendoza:20251205T210000
UID:DF70645F-91A7-4A0C-A579-417DD18602D1
SUMMARY:Acto fin de curso: CUDA 
CREATED:20250730T032643Z
DTSTAMP:20250730T032643Z
URL:https://www.uda.edu.ar/index.php/institucional-2025/calendario/acto-fin-de-curso-cuda
DESCRIPTION:Salón Auditorio
X-ALT-DESC;FMTTYPE=text/html:<p>Salón Auditorio</p>
LAST-MODIFIED:20250730T035334Z
SEQUENCE:1611
X-ACCESS:1
X-HITS:0
X-COLOR:004c93
X-SHOW-END-TIME:1
END:VEVENT
BEGIN:VEVENT
DTSTART;VALUE=DATE:20251212
DTEND;VALUE=DATE:20251213
UID:6E1370DC-B146-4350-AE92-95A570E2E44D
SUMMARY:Fin atención público
CREATED:20250730T034943Z
DTSTAMP:20250730T034943Z
URL:https://www.uda.edu.ar/index.php/institucional-2025/calendario/fin-atencion-publico
LAST-MODIFIED:20250730T034943Z
SEQUENCE:0
X-ACCESS:1
X-HITS:0
X-COLOR:ff0000
X-SHOW-END-TIME:1
END:VEVENT
END:VCALENDAR